BEGIN:VCALENDAR
VERSION:2.0
CALSCALE:GREGORIAN
TZID:Europe/Berlin
X-LIC-LOCATION:Europe/Berlin
PRODID:https://linke-kiel.de
METHOD:PUBLISH
BEGIN:VEVENT
DTSTART:20190629T110000
DTEND:20190629T130000
LOCATION:, Sophienblatt 19, 24103 Kiel
ORGANISATOR:DIE LINKE
DTSTAMP:20190605T134643
SUMMARY:Offener Frauenstammtisch
DESCRIPTION:ir möchten Euch zum nächsten Offenen Frauenstammtisch einladen. Themen sind   100 Jahre Frauenwahlrecht/Gleichberechtigung weiterdenken/Inklusion  und Verkehrskonzepte / Frauensituationen und Frauenhäuser in SH  Bitte teilt uns mit, dass Ihr kommt, damit wir besser planen können – für das leibliche Wohl ist bestens gesorgt.  Wir freuen uns auf Euch!  Kommt  zahlreich. Solidarische Grüße  Monika Bildungsbeauftragte für den Kreisvorstand Kiel
UID:20190605T134643-20190629T110000-20190629T130000
END:VEVENT
END:VCALENDAR