BEGIN:VCALENDAR
VERSION:2.0
CALSCALE:GREGORIAN
TZID:Europe/Berlin
X-LIC-LOCATION:Europe/Berlin
PRODID:https://linke-kiel.de
METHOD:PUBLISH
BEGIN:VEVENT
DTSTART:20251017T190000
DTEND:20251017T210000
LOCATION:, Kaiserstraße 38, 24143 Kiel
ORGANISATOR:Die Linke Kiel
DTSTAMP:20251013T095325
SUMMARY:Neumitgliedertreffen
DESCRIPTION:wei, die auch Neumitglieder sind, laden wieder herzlich ein zum Neumitglieder-Potluck:  Dieses Mal laden wir auf euren Wunsch hin Björn Thoroe ein, der als Oberbürgermeister kandidiert. Björn ist bereits seit vielen Jahren in der Politik aktiv und kann viele Fragen, nicht nur zum aktuellen Wahlkampf, beantworten. Wie immer ohne komplizierte Fachsprache, sondern ganz locker und verständlich.  Dazu gibt es natürlich wieder ein veganes Potluck-Buffet. Jede:r bringt etwas kleines Veganes zu essen mit, damit alle mitessen können. Egal ob herzhaft, süß, warm oder kalt. Es muss nichts Aufwändiges sein, auch Brot, ein Dip, Salat oder geschnittenes Obst sind super. Und ganz wichtig: Wenn du nichts mitbringen kannst, bist du selbstverständlich trotzdem herzlich eingeladen! Ebenso kannst du sehr gerne eine Begleitung mitbringen.   Wir wollen wieder einen Abend in entspannter Runde verbringen, uns gegenseitig besser kennenlernen, austauschen und gemeinsam überlegen, wie wir uns (wenn wir wollen) einbringen können.  🌱
UID:20251013T095325-20251017T190000-20251017T210000
END:VEVENT
END:VCALENDAR