BEGIN:VCALENDAR
VERSION:2.0
CALSCALE:GREGORIAN
TZID:Europe/Berlin
X-LIC-LOCATION:Europe/Berlin
PRODID:https://linke-kiel.de
METHOD:PUBLISH
BEGIN:VEVENT
DTSTART:20190502T190000
DTEND:20190502T210000
LOCATION:, Exerzierplatz 34, 24103 Kiel
ORGANISATOR:DIE LINKE. Kiel
DTSTAMP:20190320T172239
SUMMARY:Kreisvorstandssitzung
DESCRIPTION:
UID:20190320T172239-20190502T190000-20190502T210000
END:VEVENT
END:VCALENDAR